BEGIN:VCALENDAR
VERSION:2.0
PRODID:-//Octoraro Native Plant Nursery - ECPv6.15.20//NONSGML v1.0//EN
CALSCALE:GREGORIAN
METHOD:PUBLISH
X-WR-CALNAME:Octoraro Native Plant Nursery
X-ORIGINAL-URL:https://www.octoraro.com
X-WR-CALDESC:Events for Octoraro Native Plant Nursery
REFRESH-INTERVAL;VALUE=DURATION:PT1H
X-Robots-Tag:noindex
X-PUBLISHED-TTL:PT1H
BEGIN:VTIMEZONE
TZID:America/New_York
BEGIN:DAYLIGHT
TZOFFSETFROM:-0500
TZOFFSETTO:-0400
TZNAME:EDT
DTSTART:20210314T070000
END:DAYLIGHT
BEGIN:STANDARD
TZOFFSETFROM:-0400
TZOFFSETTO:-0500
TZNAME:EST
DTSTART:20211107T060000
END:STANDARD
BEGIN:DAYLIGHT
TZOFFSETFROM:-0500
TZOFFSETTO:-0400
TZNAME:EDT
DTSTART:20220313T070000
END:DAYLIGHT
BEGIN:STANDARD
TZOFFSETFROM:-0400
TZOFFSETTO:-0500
TZNAME:EST
DTSTART:20221106T060000
END:STANDARD
BEGIN:DAYLIGHT
TZOFFSETFROM:-0500
TZOFFSETTO:-0400
TZNAME:EDT
DTSTART:20230312T070000
END:DAYLIGHT
BEGIN:STANDARD
TZOFFSETFROM:-0400
TZOFFSETTO:-0500
TZNAME:EST
DTSTART:20231105T060000
END:STANDARD
END:VTIMEZONE
BEGIN:VEVENT
DTSTART;TZID=America/New_York:20220105T090000
DTEND;TZID=America/New_York:20220107T140000
DTSTAMP:20260423T222148
CREATED:20211230T164021Z
LAST-MODIFIED:20211230T172825Z
UID:18727-1641373200-1641564000@www.octoraro.com
SUMMARY:MANTS 2022
DESCRIPTION:The Mid-Atlantic Nursery Trade Show\, MANTS\, is known as the Masterpiece of Trade Shows™ and is sponsored by the state nursery and landscape associations of Maryland\, Virginia\, and West Virginia. MANTS is the place where horticulture industry leaders gather every January because MANTS means business. \nAlthough the MANTS trade show will be in-person this year\, Octoraro’s Booth #21 will be set up with literature\, but will not be staffed due to a recent spike in COVID-19 cases in Baltimore County. To register and learn more\, go to MANTS.com.
URL:https://www.octoraro.com/event/mants-2022/
LOCATION:Baltimore Convention Center\, One West Pratt Street\, Baltimore\, MD\, 21201\, United States
CATEGORIES:Trade Show
END:VEVENT
END:VCALENDAR