BEGIN:VCALENDAR
VERSION:2.0
PRODID:-//Octoraro Native Plant Nursery - ECPv6.15.20//NONSGML v1.0//EN
CALSCALE:GREGORIAN
METHOD:PUBLISH
X-WR-CALNAME:Octoraro Native Plant Nursery
X-ORIGINAL-URL:https://www.octoraro.com
X-WR-CALDESC:Events for Octoraro Native Plant Nursery
REFRESH-INTERVAL;VALUE=DURATION:PT1H
X-Robots-Tag:noindex
X-PUBLISHED-TTL:PT1H
BEGIN:VTIMEZONE
TZID:America/New_York
BEGIN:DAYLIGHT
TZOFFSETFROM:-0500
TZOFFSETTO:-0400
TZNAME:EDT
DTSTART:20210314T070000
END:DAYLIGHT
BEGIN:STANDARD
TZOFFSETFROM:-0400
TZOFFSETTO:-0500
TZNAME:EST
DTSTART:20211107T060000
END:STANDARD
BEGIN:DAYLIGHT
TZOFFSETFROM:-0500
TZOFFSETTO:-0400
TZNAME:EDT
DTSTART:20220313T070000
END:DAYLIGHT
BEGIN:STANDARD
TZOFFSETFROM:-0400
TZOFFSETTO:-0500
TZNAME:EST
DTSTART:20221106T060000
END:STANDARD
BEGIN:DAYLIGHT
TZOFFSETFROM:-0500
TZOFFSETTO:-0400
TZNAME:EDT
DTSTART:20230312T070000
END:DAYLIGHT
BEGIN:STANDARD
TZOFFSETFROM:-0400
TZOFFSETTO:-0500
TZNAME:EST
DTSTART:20231105T060000
END:STANDARD
END:VTIMEZONE
BEGIN:VEVENT
DTSTART;TZID=America/New_York:20220201T080000
DTEND;TZID=America/New_York:20220202T170000
DTSTAMP:20260423T193325
CREATED:20211230T170314Z
LAST-MODIFIED:20211230T170413Z
UID:18733-1643702400-1643821200@www.octoraro.com
SUMMARY:Delaware Wetlands Conference 2022
DESCRIPTION:The 2022 conference will be the 10th anniversary of the Delaware Wetlands Conference. It will also coincide with World Wetlands Day on February 2. \nIn previous years\, this conference has brought together over 400 attendees\, 50 different presentations and poster displays\, and 30 exhibitors and sponsor tables. \nThe agenda usually includes subjects such as soil science\, climate adaptation\, monitoring\, and wetland restoration and creation projects. \nThe event will follow the state of Delaware’s COVID-19 guidance for state buildings which currently includes wearing masks for both vaccinated and unvaccinated guests. \nTo register: https://www.eventbrite.com/e/2022-delaware-wetlands-conference-tickets-148373843159 \n 
URL:https://www.octoraro.com/event/delaware-wetlands-conference-2022/
LOCATION:Chase Center on the Riverfront\, 815 Justsin Street\, Wilmington\, DE\, 19801\, United States
CATEGORIES:Conference
END:VEVENT
END:VCALENDAR