BEGIN:VCALENDAR
VERSION:2.0
PRODID:-//Octoraro Native Plant Nursery - ECPv6.15.20//NONSGML v1.0//EN
CALSCALE:GREGORIAN
METHOD:PUBLISH
X-ORIGINAL-URL:https://www.octoraro.com
X-WR-CALDESC:Events for Octoraro Native Plant Nursery
REFRESH-INTERVAL;VALUE=DURATION:PT1H
X-Robots-Tag:noindex
X-PUBLISHED-TTL:PT1H
BEGIN:VTIMEZONE
TZID:America/New_York
BEGIN:DAYLIGHT
TZOFFSETFROM:-0500
TZOFFSETTO:-0400
TZNAME:EDT
DTSTART:20210314T070000
END:DAYLIGHT
BEGIN:STANDARD
TZOFFSETFROM:-0400
TZOFFSETTO:-0500
TZNAME:EST
DTSTART:20211107T060000
END:STANDARD
BEGIN:DAYLIGHT
TZOFFSETFROM:-0500
TZOFFSETTO:-0400
TZNAME:EDT
DTSTART:20220313T070000
END:DAYLIGHT
BEGIN:STANDARD
TZOFFSETFROM:-0400
TZOFFSETTO:-0500
TZNAME:EST
DTSTART:20221106T060000
END:STANDARD
BEGIN:DAYLIGHT
TZOFFSETFROM:-0500
TZOFFSETTO:-0400
TZNAME:EDT
DTSTART:20230312T070000
END:DAYLIGHT
BEGIN:STANDARD
TZOFFSETFROM:-0400
TZOFFSETTO:-0500
TZNAME:EST
DTSTART:20231105T060000
END:STANDARD
END:VTIMEZONE
BEGIN:VEVENT
DTSTART;TZID=America/New_York:20220603T000000
DTEND;TZID=America/New_York:20220611T000000
DTSTAMP:20260423T020012
CREATED:20211230T171907Z
LAST-MODIFIED:20211230T171907Z
UID:18737-1654214400-1654905600@www.octoraro.com
SUMMARY:Lancaster Water Week 2022
DESCRIPTION:Leading the way to clean water by protecting over 7\,000 acres of wild lands\, the Lancaster Conservancy created Lancaster Water Week to connect us all to clean water. Lancaster’s 1\,400 miles of streams and rivers drive local economic and agricultural growth. They are a place of recreation and the source of our drinking water. Water Connects Us All! \nWe strive for streams and rivers that are fishable\, swimmable\, and drinkable. We need your help.
URL:https://www.octoraro.com/event/lancaster-water-week-2022/
LOCATION:Lancaster County\, PA\, United States
CATEGORIES:Community Event
END:VEVENT
END:VCALENDAR