BEGIN:VCALENDAR
VERSION:2.0
PRODID:-//Octoraro Native Plant Nursery - ECPv6.15.20//NONSGML v1.0//EN
CALSCALE:GREGORIAN
METHOD:PUBLISH
X-WR-CALNAME:Octoraro Native Plant Nursery
X-ORIGINAL-URL:https://www.octoraro.com
X-WR-CALDESC:Events for Octoraro Native Plant Nursery
REFRESH-INTERVAL;VALUE=DURATION:PT1H
X-Robots-Tag:noindex
X-PUBLISHED-TTL:PT1H
BEGIN:VTIMEZONE
TZID:America/New_York
BEGIN:DAYLIGHT
TZOFFSETFROM:-0500
TZOFFSETTO:-0400
TZNAME:EDT
DTSTART:20220313T070000
END:DAYLIGHT
BEGIN:STANDARD
TZOFFSETFROM:-0400
TZOFFSETTO:-0500
TZNAME:EST
DTSTART:20221106T060000
END:STANDARD
BEGIN:DAYLIGHT
TZOFFSETFROM:-0500
TZOFFSETTO:-0400
TZNAME:EDT
DTSTART:20230312T070000
END:DAYLIGHT
BEGIN:STANDARD
TZOFFSETFROM:-0400
TZOFFSETTO:-0500
TZNAME:EST
DTSTART:20231105T060000
END:STANDARD
BEGIN:DAYLIGHT
TZOFFSETFROM:-0500
TZOFFSETTO:-0400
TZNAME:EDT
DTSTART:20240310T070000
END:DAYLIGHT
BEGIN:STANDARD
TZOFFSETFROM:-0400
TZOFFSETTO:-0500
TZNAME:EST
DTSTART:20241103T060000
END:STANDARD
END:VTIMEZONE
BEGIN:VEVENT
DTSTART;TZID=America/New_York:20230104T080000
DTEND;TZID=America/New_York:20230104T170000
DTSTAMP:20260422T082257
CREATED:20221219T184643Z
LAST-MODIFIED:20221219T185025Z
UID:18820-1672819200-1672851600@www.octoraro.com
SUMMARY:Green Industry Conference
DESCRIPTION:Each year\, the Southeast Pennsylvania Green Industry Conference provides green industry professionals in the region with an opportunity to stay up-to-date on the latest research\, techniques\, and technology to help their businesses succeed. This conference also provides a wealth of opportunities for attendees to earn pesticide recertification credits\, continuing education units (CEUs) for a variety of professional certifications\, and network with colleagues\, industry experts\, college and university faculty\, regulatory experts\, and Penn State Extension educators. \nWho is this for? \n\nGreen industry professionals\nNursery owners\nTurfgrass professionals\nLandscape contractors\nHorticulturists and garden managers\nGreen infrastructure and stormwater professionals\nHorticulture students\n\nConference Topics \n\n\n\n\n\n\nTurfgrass\nOrnamental Landscape\nRegulatory and Labor Issues\nGreen Infrastructure\nUrban Landscapes\n\n\n\n\n\n\n\n\n\n\n\nCredits Available\n\n\n\n\n\n\n\n\n\n\n\n\n\nPC\nCore\nCat. 05\nCat. 06\nCat. 07\nCat. 18\nCat 23\nPCH\nISA\n\nPesticide Recertification Credits (PC\, Core\, Cat. 05\, 06\, 07\, 18 & 23) will be offered for PA applicators only. \n\n\n\n\n\n\n\n\n\n\n\n 
URL:https://www.octoraro.com/event/green-industry-conference-2/
LOCATION:Ambler Campus\, Temple University\, 580 Meetinghouse Rd.\, Ambler\, PA\, 19002\, United States
END:VEVENT
END:VCALENDAR