BEGIN:VCALENDAR
VERSION:2.0
PRODID:-//Octoraro Native Plant Nursery - ECPv6.15.20//NONSGML v1.0//EN
CALSCALE:GREGORIAN
METHOD:PUBLISH
X-ORIGINAL-URL:https://www.octoraro.com
X-WR-CALDESC:Events for Octoraro Native Plant Nursery
REFRESH-INTERVAL;VALUE=DURATION:PT1H
X-Robots-Tag:noindex
X-PUBLISHED-TTL:PT1H
BEGIN:VTIMEZONE
TZID:America/New_York
BEGIN:DAYLIGHT
TZOFFSETFROM:-0500
TZOFFSETTO:-0400
TZNAME:EDT
DTSTART:20220313T070000
END:DAYLIGHT
BEGIN:STANDARD
TZOFFSETFROM:-0400
TZOFFSETTO:-0500
TZNAME:EST
DTSTART:20221106T060000
END:STANDARD
BEGIN:DAYLIGHT
TZOFFSETFROM:-0500
TZOFFSETTO:-0400
TZNAME:EDT
DTSTART:20230312T070000
END:DAYLIGHT
BEGIN:STANDARD
TZOFFSETFROM:-0400
TZOFFSETTO:-0500
TZNAME:EST
DTSTART:20231105T060000
END:STANDARD
BEGIN:DAYLIGHT
TZOFFSETFROM:-0500
TZOFFSETTO:-0400
TZNAME:EDT
DTSTART:20240310T070000
END:DAYLIGHT
BEGIN:STANDARD
TZOFFSETFROM:-0400
TZOFFSETTO:-0500
TZNAME:EST
DTSTART:20241103T060000
END:STANDARD
END:VTIMEZONE
BEGIN:VEVENT
DTSTART;TZID=America/New_York:20230522T130000
DTEND;TZID=America/New_York:20230524T150000
DTSTAMP:20260422T005050
CREATED:20230511T000811Z
LAST-MODIFIED:20230511T000850Z
UID:18850-1684760400-1684940400@www.octoraro.com
SUMMARY:Choose Clean Water Conference
DESCRIPTION:Agenda Overview\nMonday\, May 22\n1:30 p.m.-4:30 p.m. ForumPlus—Siting Solar: An Understanding of Solar Fields in the Bay Watershed \nTuesday\, May 23\n8:00 a.m. Registration and continental breakfast open\n9:00 a.m. Opening plenary session\n10:00 a.m.-11:45 a.m. Breakout session round one\n11:45 a.m.-1:00 p.m. Lunch and keynote speaker\n1:00 p.m.-1:45 p.m. Breakout session round two\n2:30 p.m.-5:30 p.m. Field Trips\n6:00 p.m.-10:00 p.m. Reception & Dinner\, Historic King Mansion \nWednesday\, May 24\n8:00 a.m. Registration and continental breakfast open\n9:00 a.m. Opening plenary session\n10:00 a.m.-11:45 a.m. Breakout session round three\n11:45 a.m.-1:00 p.m. Lunch and keynote speaker\n1:15 p.m.-2:00 p.m. Breakout session round four\n2:15 p.m.-3:00 p.m. Breakout session round five\n3:00 p.m. Conference End
URL:https://www.octoraro.com/event/choose-clean-water-conference/
LOCATION:Hilton Harrisburg\, One North 2nd Street\, Harrisburg\, PA\, PA\, 17101\, United States
CATEGORIES:Conference
END:VEVENT
END:VCALENDAR