BEGIN:VCALENDAR
VERSION:2.0
PRODID:-//Octoraro Native Plant Nursery - ECPv6.15.20//NONSGML v1.0//EN
CALSCALE:GREGORIAN
METHOD:PUBLISH
X-ORIGINAL-URL:https://www.octoraro.com
X-WR-CALDESC:Events for Octoraro Native Plant Nursery
REFRESH-INTERVAL;VALUE=DURATION:PT1H
X-Robots-Tag:noindex
X-PUBLISHED-TTL:PT1H
BEGIN:VTIMEZONE
TZID:America/New_York
BEGIN:DAYLIGHT
TZOFFSETFROM:-0500
TZOFFSETTO:-0400
TZNAME:EDT
DTSTART:20220313T070000
END:DAYLIGHT
BEGIN:STANDARD
TZOFFSETFROM:-0400
TZOFFSETTO:-0500
TZNAME:EST
DTSTART:20221106T060000
END:STANDARD
BEGIN:DAYLIGHT
TZOFFSETFROM:-0500
TZOFFSETTO:-0400
TZNAME:EDT
DTSTART:20230312T070000
END:DAYLIGHT
BEGIN:STANDARD
TZOFFSETFROM:-0400
TZOFFSETTO:-0500
TZNAME:EST
DTSTART:20231105T060000
END:STANDARD
BEGIN:DAYLIGHT
TZOFFSETFROM:-0500
TZOFFSETTO:-0400
TZNAME:EDT
DTSTART:20240310T070000
END:DAYLIGHT
BEGIN:STANDARD
TZOFFSETFROM:-0400
TZOFFSETTO:-0500
TZNAME:EST
DTSTART:20241103T060000
END:STANDARD
END:VTIMEZONE
BEGIN:VEVENT
DTSTART;TZID=America/New_York:20230926T080000
DTEND;TZID=America/New_York:20230929T170000
DTSTAMP:20260421T162527
CREATED:20230727T171820Z
LAST-MODIFIED:20230727T172021Z
UID:18869-1695715200-1696006800@www.octoraro.com
SUMMARY:IPPS Eastern Region Annual Conference 2023
DESCRIPTION:Join us for the Annual Plant Production Conference of the IPPS Eastern Region. Come reconnect\, recharge\, and learn from the best in the business via three days of educational sessions and three days of tours. Discover what makes Ontario one of the best horticultural communities in North America.
URL:https://www.octoraro.com/event/ipps-eastern-region-annual-conference-2023/
LOCATION:Sheraton Hamilton Hotel\, Hamilton\, Ontario\, Canada
END:VEVENT
END:VCALENDAR