BEGIN:VCALENDAR
VERSION:2.0
PRODID:-//Octoraro Native Plant Nursery - ECPv6.15.20//NONSGML v1.0//EN
CALSCALE:GREGORIAN
METHOD:PUBLISH
X-ORIGINAL-URL:https://www.octoraro.com
X-WR-CALDESC:Events for Octoraro Native Plant Nursery
REFRESH-INTERVAL;VALUE=DURATION:PT1H
X-Robots-Tag:noindex
X-PUBLISHED-TTL:PT1H
BEGIN:VTIMEZONE
TZID:America/New_York
BEGIN:DAYLIGHT
TZOFFSETFROM:-0500
TZOFFSETTO:-0400
TZNAME:EDT
DTSTART:20230312T070000
END:DAYLIGHT
BEGIN:STANDARD
TZOFFSETFROM:-0400
TZOFFSETTO:-0500
TZNAME:EST
DTSTART:20231105T060000
END:STANDARD
BEGIN:DAYLIGHT
TZOFFSETFROM:-0500
TZOFFSETTO:-0400
TZNAME:EDT
DTSTART:20240310T070000
END:DAYLIGHT
BEGIN:STANDARD
TZOFFSETFROM:-0400
TZOFFSETTO:-0500
TZNAME:EST
DTSTART:20241103T060000
END:STANDARD
BEGIN:DAYLIGHT
TZOFFSETFROM:-0500
TZOFFSETTO:-0400
TZNAME:EDT
DTSTART:20250309T070000
END:DAYLIGHT
BEGIN:STANDARD
TZOFFSETFROM:-0400
TZOFFSETTO:-0500
TZNAME:EST
DTSTART:20251102T060000
END:STANDARD
END:VTIMEZONE
BEGIN:VEVENT
DTSTART;TZID=America/New_York:20240118T080000
DTEND;TZID=America/New_York:20240119T170000
DTSTAMP:20260421T201240
CREATED:20231106T175703Z
LAST-MODIFIED:20231106T175703Z
UID:18894-1705564800-1705683600@www.octoraro.com
SUMMARY:Delaware Horticulture Industry Expo
DESCRIPTION:Join us January 18 & 19 at the Modern Maturity Center in Dover for education\, exhibits\, and networking.  Registration is Open. \nTopics include: \n\nThe ABC’s of Focused Selective Removals\nA Light Touch: Dynamic Design that Conserves & Manages Existing Elements\nSediment & Erosion Control Best Practices- Design\, Permitting\, & Construction\nWhat Climate Change Means for Indigenous & Newly Emerging Pests\nNaturalistic Landscaping on Commercial Properties\nPesticides: Risk vs Perception…But What about the Science?\nInvasive Pest Update: What’s Here Now\, Heading Our Way\, & How Will We Manage Invasive Insects\nHow Do Consumers Perceive Native Plants?\n\nJanuary 18th will award 2 Pesticide Applicator Recertification Credits for DE Categories 03\, PA. Credits from PA\, MD\, and ISA will also be available. 1 CNP credit \nJanuary 19th will award 3 Pesticide Applicator Recertification Credits for DE Categories 03\, PA. Credits from PA\, MD\, ISA and 1 DE Nutrient Management CEU will also be available. 1 CNP credit \nDownload the registration brochure and return with payment\, or register via credit card at https://2023DEHORTEXPO.eventbrite.com  (Do Not Use Internet Explorer)
URL:https://www.octoraro.com/event/delaware-horticulture-industry-expo/
LOCATION:Modern Maturity Center\, 1121 Forrest Avenue\, Dover\, DE\, 19904\, United States
ORGANIZER;CN="Delaware Nursery and Landscape Assocation":MAILTO:info@dnlaonline.org
END:VEVENT
END:VCALENDAR