BEGIN:VCALENDAR
VERSION:2.0
PRODID:-//Octoraro Native Plant Nursery - ECPv6.15.20//NONSGML v1.0//EN
CALSCALE:GREGORIAN
METHOD:PUBLISH
X-ORIGINAL-URL:https://www.octoraro.com
X-WR-CALDESC:Events for Octoraro Native Plant Nursery
REFRESH-INTERVAL;VALUE=DURATION:PT1H
X-Robots-Tag:noindex
X-PUBLISHED-TTL:PT1H
BEGIN:VTIMEZONE
TZID:America/New_York
BEGIN:DAYLIGHT
TZOFFSETFROM:-0500
TZOFFSETTO:-0400
TZNAME:EDT
DTSTART:20240310T070000
END:DAYLIGHT
BEGIN:STANDARD
TZOFFSETFROM:-0400
TZOFFSETTO:-0500
TZNAME:EST
DTSTART:20241103T060000
END:STANDARD
BEGIN:DAYLIGHT
TZOFFSETFROM:-0500
TZOFFSETTO:-0400
TZNAME:EDT
DTSTART:20250309T070000
END:DAYLIGHT
BEGIN:STANDARD
TZOFFSETFROM:-0400
TZOFFSETTO:-0500
TZNAME:EST
DTSTART:20251102T060000
END:STANDARD
BEGIN:DAYLIGHT
TZOFFSETFROM:-0500
TZOFFSETTO:-0400
TZNAME:EDT
DTSTART:20260308T070000
END:DAYLIGHT
BEGIN:STANDARD
TZOFFSETFROM:-0400
TZOFFSETTO:-0500
TZNAME:EST
DTSTART:20261101T060000
END:STANDARD
END:VTIMEZONE
BEGIN:VEVENT
DTSTART;TZID=America/New_York:20250108T080000
DTEND;TZID=America/New_York:20250110T130000
DTSTAMP:20260421T102200
CREATED:20241213T133209Z
LAST-MODIFIED:20250102T144813Z
UID:19053-1736323200-1736514000@www.octoraro.com
SUMMARY:MANTS 2025
DESCRIPTION:Come see us at Booth 21\, just inside the main floor entrance to your right.\nMANTS is a premier event for the horticulture industry\, consistently attracting over 11\,000 attendees and more than 900 exhibitors. In 2024\, the show drew a highly qualified audience\, with over 82 percent of participants being decision-makers or influencers within their organizations. The sold-out trade show floor featured a diverse array of products\, from plants and nursery stock to garden items and outdoor living\nessentials. MANTS 2025 is poised to offer even more opportunities for learning and partnership-building.
URL:https://www.octoraro.com/event/mants-2025/
LOCATION:Baltimore Convention Center\, One West Pratt Street\, Baltimore\, MD\, 21201\, United States
CATEGORIES:Trade Show
END:VEVENT
END:VCALENDAR