BEGIN:VCALENDAR
VERSION:2.0
PRODID:-//Octoraro Native Plant Nursery - ECPv6.15.20//NONSGML v1.0//EN
CALSCALE:GREGORIAN
METHOD:PUBLISH
X-WR-CALNAME:Octoraro Native Plant Nursery
X-ORIGINAL-URL:https://www.octoraro.com
X-WR-CALDESC:Events for Octoraro Native Plant Nursery
REFRESH-INTERVAL;VALUE=DURATION:PT1H
X-Robots-Tag:noindex
X-PUBLISHED-TTL:PT1H
BEGIN:VTIMEZONE
TZID:America/New_York
BEGIN:DAYLIGHT
TZOFFSETFROM:-0500
TZOFFSETTO:-0400
TZNAME:EDT
DTSTART:20240310T070000
END:DAYLIGHT
BEGIN:STANDARD
TZOFFSETFROM:-0400
TZOFFSETTO:-0500
TZNAME:EST
DTSTART:20241103T060000
END:STANDARD
BEGIN:DAYLIGHT
TZOFFSETFROM:-0500
TZOFFSETTO:-0400
TZNAME:EDT
DTSTART:20250309T070000
END:DAYLIGHT
BEGIN:STANDARD
TZOFFSETFROM:-0400
TZOFFSETTO:-0500
TZNAME:EST
DTSTART:20251102T060000
END:STANDARD
BEGIN:DAYLIGHT
TZOFFSETFROM:-0500
TZOFFSETTO:-0400
TZNAME:EDT
DTSTART:20260308T070000
END:DAYLIGHT
BEGIN:STANDARD
TZOFFSETFROM:-0400
TZOFFSETTO:-0500
TZNAME:EST
DTSTART:20261101T060000
END:STANDARD
END:VTIMEZONE
BEGIN:VEVENT
DTSTART;TZID=America/New_York:20250329T080000
DTEND;TZID=America/New_York:20250329T170000
DTSTAMP:20260421T072533
CREATED:20241213T150133Z
LAST-MODIFIED:20241213T150133Z
UID:19065-1743235200-1743267600@www.octoraro.com
SUMMARY:Watershed Congress Along The Schuylkill River
DESCRIPTION:The Watershed Congress advances the best available information and techniques for protecting and restoring watersheds. \nThe focus on networking across disciplines means that the Congress melds science\, policy and practical applications into one program. \nEvery year\, a growing and changing group of individuals attends to gain new knowledge\, acquire tools\, and practice techniques that will allow them to take active roles in the stewardship of their natural resources.
URL:https://www.octoraro.com/event/watershed-congress-along-the-schuylkill-river-2/
LOCATION:Alvernia College\, 400 Saint Bernardine St.\, Reading\, PA\, 19607\, United States
END:VEVENT
END:VCALENDAR