BEGIN:VCALENDAR
VERSION:2.0
PRODID:-//Octoraro Native Plant Nursery - ECPv6.15.20//NONSGML v1.0//EN
CALSCALE:GREGORIAN
METHOD:PUBLISH
X-WR-CALNAME:Octoraro Native Plant Nursery
X-ORIGINAL-URL:https://www.octoraro.com
X-WR-CALDESC:Events for Octoraro Native Plant Nursery
REFRESH-INTERVAL;VALUE=DURATION:PT1H
X-Robots-Tag:noindex
X-PUBLISHED-TTL:PT1H
BEGIN:VTIMEZONE
TZID:America/New_York
BEGIN:DAYLIGHT
TZOFFSETFROM:-0500
TZOFFSETTO:-0400
TZNAME:EDT
DTSTART:20250309T070000
END:DAYLIGHT
BEGIN:STANDARD
TZOFFSETFROM:-0400
TZOFFSETTO:-0500
TZNAME:EST
DTSTART:20251102T060000
END:STANDARD
BEGIN:DAYLIGHT
TZOFFSETFROM:-0500
TZOFFSETTO:-0400
TZNAME:EDT
DTSTART:20260308T070000
END:DAYLIGHT
BEGIN:STANDARD
TZOFFSETFROM:-0400
TZOFFSETTO:-0500
TZNAME:EST
DTSTART:20261101T060000
END:STANDARD
BEGIN:DAYLIGHT
TZOFFSETFROM:-0500
TZOFFSETTO:-0400
TZNAME:EDT
DTSTART:20270314T070000
END:DAYLIGHT
BEGIN:STANDARD
TZOFFSETFROM:-0400
TZOFFSETTO:-0500
TZNAME:EST
DTSTART:20271107T060000
END:STANDARD
END:VTIMEZONE
BEGIN:VEVENT
DTSTART;TZID=America/New_York:20260107T090000
DTEND;TZID=America/New_York:20260109T130000
DTSTAMP:20260422T010817
CREATED:20250908T191224Z
LAST-MODIFIED:20250908T191224Z
UID:19267-1767776400-1767963600@www.octoraro.com
SUMMARY:MANTS 2026
DESCRIPTION:Join Octoraro at the Mid-Atlantic Nursery Trade Show (MANTS)\, one of the horticulture industry’s largest and most B2B trade shows. Thousands of industry professionals gather at MANTS in January to connect\, source plants and products\, discover what’s new\, and build business relationships. All education happens peer-to-peer on the show floor\, making MANTS the marketplace where the green industry moves forward together.
URL:https://www.octoraro.com/event/mants-2026/
LOCATION:Baltimore Convention Center\, One West Pratt Street\, Baltimore\, MD\, 21201\, United States
CATEGORIES:Trade Show
ATTACH;FMTTYPE=image/jpeg:https://www.octoraro.com/wp-content/uploads/2025/09/MANTS-2926.jpg
END:VEVENT
END:VCALENDAR