BEGIN:VCALENDAR
VERSION:2.0
PRODID:-//Octoraro Native Plant Nursery - ECPv6.15.20//NONSGML v1.0//EN
CALSCALE:GREGORIAN
METHOD:PUBLISH
X-ORIGINAL-URL:https://www.octoraro.com
X-WR-CALDESC:Events for Octoraro Native Plant Nursery
REFRESH-INTERVAL;VALUE=DURATION:PT1H
X-Robots-Tag:noindex
X-PUBLISHED-TTL:PT1H
BEGIN:VTIMEZONE
TZID:America/New_York
BEGIN:DAYLIGHT
TZOFFSETFROM:-0500
TZOFFSETTO:-0400
TZNAME:EDT
DTSTART:20250309T070000
END:DAYLIGHT
BEGIN:STANDARD
TZOFFSETFROM:-0400
TZOFFSETTO:-0500
TZNAME:EST
DTSTART:20251102T060000
END:STANDARD
BEGIN:DAYLIGHT
TZOFFSETFROM:-0500
TZOFFSETTO:-0400
TZNAME:EDT
DTSTART:20260308T070000
END:DAYLIGHT
BEGIN:STANDARD
TZOFFSETFROM:-0400
TZOFFSETTO:-0500
TZNAME:EST
DTSTART:20261101T060000
END:STANDARD
BEGIN:DAYLIGHT
TZOFFSETFROM:-0500
TZOFFSETTO:-0400
TZNAME:EDT
DTSTART:20270314T070000
END:DAYLIGHT
BEGIN:STANDARD
TZOFFSETFROM:-0400
TZOFFSETTO:-0500
TZNAME:EST
DTSTART:20271107T060000
END:STANDARD
END:VTIMEZONE
BEGIN:VEVENT
DTSTART;TZID=America/New_York:20260114T080000
DTEND;TZID=America/New_York:20260115T170000
DTSTAMP:20260421T232930
CREATED:20250908T191708Z
LAST-MODIFIED:20250908T191708Z
UID:19271-1768377600-1768496400@www.octoraro.com
SUMMARY:2026 DE Horticulture Industry Expo
DESCRIPTION:Join us January 14 & 15 at the Modern Maturity Center in Dover for education\, exhibits\, and networking. Registration is Open. \n 
URL:https://www.octoraro.com/event/2026-de-horticulture-industry-expo/
LOCATION:Modern Maturity Center\, 1121 Forrest Avenue\, Dover\, DE\, 19904\, United States
CATEGORIES:Conference,Trade Show
ATTACH;FMTTYPE=image/png:https://www.octoraro.com/wp-content/uploads/2025/09/DNLA-Logo@2x.png
ORGANIZER;CN="Delaware Nursery and Landscape Assocation":MAILTO:info@dnlaonline.org
END:VEVENT
END:VCALENDAR