BEGIN:VCALENDAR
VERSION:2.0
PRODID:-//Octoraro Native Plant Nursery - ECPv6.15.20//NONSGML v1.0//EN
CALSCALE:GREGORIAN
METHOD:PUBLISH
X-ORIGINAL-URL:https://www.octoraro.com
X-WR-CALDESC:Events for Octoraro Native Plant Nursery
REFRESH-INTERVAL;VALUE=DURATION:PT1H
X-Robots-Tag:noindex
X-PUBLISHED-TTL:PT1H
BEGIN:VTIMEZONE
TZID:America/New_York
BEGIN:DAYLIGHT
TZOFFSETFROM:-0500
TZOFFSETTO:-0400
TZNAME:EDT
DTSTART:20210314T070000
END:DAYLIGHT
BEGIN:STANDARD
TZOFFSETFROM:-0400
TZOFFSETTO:-0500
TZNAME:EST
DTSTART:20211107T060000
END:STANDARD
BEGIN:DAYLIGHT
TZOFFSETFROM:-0500
TZOFFSETTO:-0400
TZNAME:EDT
DTSTART:20220313T070000
END:DAYLIGHT
BEGIN:STANDARD
TZOFFSETFROM:-0400
TZOFFSETTO:-0500
TZNAME:EST
DTSTART:20221106T060000
END:STANDARD
BEGIN:DAYLIGHT
TZOFFSETFROM:-0500
TZOFFSETTO:-0400
TZNAME:EDT
DTSTART:20230312T070000
END:DAYLIGHT
BEGIN:STANDARD
TZOFFSETFROM:-0400
TZOFFSETTO:-0500
TZNAME:EST
DTSTART:20231105T060000
END:STANDARD
END:VTIMEZONE
BEGIN:VEVENT
DTSTART;TZID=America/New_York:20220113T000000
DTEND;TZID=America/New_York:20220119T000000
DTSTAMP:20260423T023636
CREATED:20211230T165217Z
LAST-MODIFIED:20211230T165217Z
UID:18729-1642032000-1642550400@www.octoraro.com
SUMMARY:Delaware Horticulture Industry Expo 2022
DESCRIPTION:The  2022 DE Horticulture Industry Expo will be held via ZOOM.  The virtual event\, held January 12th\, 13th and 19th\, will feature a great line-up of speakers. \nFeatured topics include: \n\nGlyphosate Toxicology and Alternatives for the Green Industry\nWhat Landscapes Ought to be in the 21st Century\nDelaware’s New Invasive Plant Law SB22\nManaging an Historic Garden in the Modern Age\nUrban Invaders – Managing Invasive Plants in Urban Green Spaces\nTurning Up the Heat on Your Business\nWhat is Your Soil Test Telling You\nLegal Updates for Snow Management\n\nJanuary 12th will award 2 Pesticide Applicator Recertification Credits for DE Categories 03\, PA. Credits from PA\, MD\, and ISA will also be available. 1 CNP credit \nJanuary 13th will award 2 Pesticide Applicator Recertification Credits for DE Categories 03\, 06\, PA. Credits from PA\, MD\, and ISA will also be available. 1 CNP credit \nJanuary 19th will award ISA credit and 1 DE Nutrient Management credit. 1 CNP credit \nDownload the registration brochure and return with payment\, or register via credit card at https://2022DEHORTEXPO.eventbrite.com  (Do Not Use Internet Explorer)
URL:https://www.octoraro.com/event/delaware-horticulture-industry-expo-2022/
CATEGORIES:Virtual Event
ORGANIZER;CN="Delaware Nursery and Landscape Assocation":MAILTO:info@dnlaonline.org
END:VEVENT
END:VCALENDAR