BEGIN:VCALENDAR
VERSION:2.0
PRODID:-//Octoraro Native Plant Nursery - ECPv6.15.20//NONSGML v1.0//EN
CALSCALE:GREGORIAN
METHOD:PUBLISH
X-WR-CALNAME:Octoraro Native Plant Nursery
X-ORIGINAL-URL:https://www.octoraro.com
X-WR-CALDESC:Events for Octoraro Native Plant Nursery
REFRESH-INTERVAL;VALUE=DURATION:PT1H
X-Robots-Tag:noindex
X-PUBLISHED-TTL:PT1H
BEGIN:VTIMEZONE
TZID:America/New_York
BEGIN:DAYLIGHT
TZOFFSETFROM:-0500
TZOFFSETTO:-0400
TZNAME:EDT
DTSTART:20200308T070000
END:DAYLIGHT
BEGIN:STANDARD
TZOFFSETFROM:-0400
TZOFFSETTO:-0500
TZNAME:EST
DTSTART:20201101T060000
END:STANDARD
BEGIN:DAYLIGHT
TZOFFSETFROM:-0500
TZOFFSETTO:-0400
TZNAME:EDT
DTSTART:20210314T070000
END:DAYLIGHT
BEGIN:STANDARD
TZOFFSETFROM:-0400
TZOFFSETTO:-0500
TZNAME:EST
DTSTART:20211107T060000
END:STANDARD
BEGIN:DAYLIGHT
TZOFFSETFROM:-0500
TZOFFSETTO:-0400
TZNAME:EDT
DTSTART:20220313T070000
END:DAYLIGHT
BEGIN:STANDARD
TZOFFSETFROM:-0400
TZOFFSETTO:-0500
TZNAME:EST
DTSTART:20221106T060000
END:STANDARD
END:VTIMEZONE
BEGIN:VEVENT
DTSTART;TZID=America/New_York:20210106T080000
DTEND;TZID=America/New_York:20210108T200000
DTSTAMP:20260425T173900
CREATED:20210105T155919Z
LAST-MODIFIED:20210105T160324Z
UID:18642-1609920000-1610136000@www.octoraro.com
SUMMARY:MANTS 2021
DESCRIPTION:The Mid-Atlantic Nursery Trade Show\, MANTS\, is known as the Masterpiece of Trade Shows™ and is\nsponsored by the state nursery and landscape associations of Maryland\, Virginia\, and West Virginia. MANTS is\nthe place where horticulture industry leaders gather every January because MANTS means business. \nNormally held at the Baltimore Convention Center\, this year MANTS is virtual. Visit Octoraro’s Booth #21 online. To register and learn more\, go to MANTS.com
URL:https://www.octoraro.com/event/mants-2021/
LOCATION:Virtual
CATEGORIES:Virtual Event
END:VEVENT
BEGIN:VEVENT
DTSTART;TZID=America/New_York:20210113T083000
DTEND;TZID=America/New_York:20210114T113000
DTSTAMP:20260425T173900
CREATED:20210105T183410Z
LAST-MODIFIED:20210105T183525Z
UID:18653-1610526600-1610623800@www.octoraro.com
SUMMARY:Delaware Horticulture Industry Expo 2021
DESCRIPTION:Registration is underway for the 2021 Delaware Horticulture Industry Expo which will be held via ZOOM. The virtual event\, held January 13th\, 14th and 20th\, will feature a great line-up of speakers. \nFeatured topics include:\n• Deer-Resistant Native Plants for the Northeast\n• Integrated Vegetation Management Practices for Wetlands and Riparian Zones\n• Key Diseases in Herbaceous Ornamentals in Landscape Beds\n• Top Ten Tips to Creating A Smartphone Studio – How to Look & Sound Professional with your Device!\n• Waiting in the Wings: Trees and shrubs trying to break into the biz\n• COVID and the Impact on Green Industry Business’s Financial Needs\n• Our Majestic Oaks and their Achilles Heel \nJanuary 13th will award 3 Pesticide Applicator Recertification Credits for DE Categories 03\, PA. Credits from PA\, MD\, and ISA will also be available. \nJanuary 14th will award 2 Pesticide Applicator Recertification Credits for DE Categories 03\, PA and 1 credit for Category 5A. Credits from PA\, MD\, and ISA will also be available\, and .5 DE Nutrient Management CEU will also be available. \nJanuary 20th will award ISA credit \nDownload the registration brochure and return with payment\, or register via credit card at https://www.accelevents.com/e/2021DEHortExpo (DO NOT USE Internet Explorer) You may be required to create a password\, if you haven’t done so for past events. \nThose that require recertification credits must register and pay individually\, and need to be able to login to zoom individually on their own device.
URL:https://www.octoraro.com/event/delaware-horticulture-industry-expo-2021/
LOCATION:Virtual
END:VEVENT
END:VCALENDAR