BEGIN:VCALENDAR
VERSION:2.0
PRODID:-//Octoraro Native Plant Nursery - ECPv6.15.20//NONSGML v1.0//EN
CALSCALE:GREGORIAN
METHOD:PUBLISH
X-ORIGINAL-URL:https://www.octoraro.com
X-WR-CALDESC:Events for Octoraro Native Plant Nursery
REFRESH-INTERVAL;VALUE=DURATION:PT1H
X-Robots-Tag:noindex
X-PUBLISHED-TTL:PT1H
BEGIN:VTIMEZONE
TZID:America/New_York
BEGIN:DAYLIGHT
TZOFFSETFROM:-0500
TZOFFSETTO:-0400
TZNAME:EDT
DTSTART:20240310T070000
END:DAYLIGHT
BEGIN:STANDARD
TZOFFSETFROM:-0400
TZOFFSETTO:-0500
TZNAME:EST
DTSTART:20241103T060000
END:STANDARD
BEGIN:DAYLIGHT
TZOFFSETFROM:-0500
TZOFFSETTO:-0400
TZNAME:EDT
DTSTART:20250309T070000
END:DAYLIGHT
BEGIN:STANDARD
TZOFFSETFROM:-0400
TZOFFSETTO:-0500
TZNAME:EST
DTSTART:20251102T060000
END:STANDARD
BEGIN:DAYLIGHT
TZOFFSETFROM:-0500
TZOFFSETTO:-0400
TZNAME:EDT
DTSTART:20260308T070000
END:DAYLIGHT
BEGIN:STANDARD
TZOFFSETFROM:-0400
TZOFFSETTO:-0500
TZNAME:EST
DTSTART:20261101T060000
END:STANDARD
END:VTIMEZONE
BEGIN:VEVENT
DTSTART;TZID=America/New_York:20250918T170000
DTEND;TZID=America/New_York:20250918T190000
DTSTAMP:20260421T150845
CREATED:20250908T192427Z
LAST-MODIFIED:20250908T192639Z
UID:19275-1758214800-1758222000@www.octoraro.com
SUMMARY:Mid-Atlantic Meet-up at Octoraro Native Plant Nursery
DESCRIPTION:Join us Thursday\, September 18\, 2025 from 5-7pm at Octoraro Native Plant Nursery for an evening to network with your friends and colleagues in the ecological landscaping field. \nOctoraro Native Plant Nursery has been supplying seed grown native trees and shrubs to the Mid-Atlantic region for 35 years. Traditionally specializing in wetland trees and shrubs\, millions of plants grown at the nursery have been planted in riparian buffers\, reforestation projects\, large landscape designs\, and more. Currently\, ownership is transitioning from Jim MacKenzie and Mark Gutshall to Kevin and Claire Zuidervliet. This transition promises to honor Octoraro’s strong legacy as a high-quality grower\, while also cultivating new relationships and exploring more native plant species to be added to our offerings. \nPlease join us for an evening of food and tours at Octoraro Native Plant Nursery’s propagation facility. Tours will focus on how Octoraro sustainably grows native trees and shrubs for restoration efforts\, landscape contractors\, and retail businesses. There will also be discussions and examples of underutilized native species that Octoraro is developing propagation and growing protocols to better serve the growing demand for native plants. \nRegister
URL:https://www.octoraro.com/event/mid-atlantic-meet-up-at-octoraro-native-plant-nursery/
LOCATION:Octoraro Ticklewood Nursery\, 270 Baker Road \, PA\, Cochranville\, PA\, 19330\, United States
CATEGORIES:MeetUp
ATTACH;FMTTYPE=image/jpeg:https://www.octoraro.com/wp-content/uploads/2018/11/Octoraro-Top-Banner-Horizontal-Logo-Oak-Leaf-Left-Since-1990-Lower-980x230-1.jpg
END:VEVENT
END:VCALENDAR