BEGIN:VCALENDAR
VERSION:2.0
PRODID:-//Octoraro Native Plant Nursery - ECPv6.15.20//NONSGML v1.0//EN
CALSCALE:GREGORIAN
METHOD:PUBLISH
X-WR-CALNAME:Octoraro Native Plant Nursery
X-ORIGINAL-URL:https://www.octoraro.com
X-WR-CALDESC:Events for Octoraro Native Plant Nursery
REFRESH-INTERVAL;VALUE=DURATION:PT1H
X-Robots-Tag:noindex
X-PUBLISHED-TTL:PT1H
BEGIN:VTIMEZONE
TZID:America/New_York
BEGIN:DAYLIGHT
TZOFFSETFROM:-0500
TZOFFSETTO:-0400
TZNAME:EDT
DTSTART:20240310T070000
END:DAYLIGHT
BEGIN:STANDARD
TZOFFSETFROM:-0400
TZOFFSETTO:-0500
TZNAME:EST
DTSTART:20241103T060000
END:STANDARD
BEGIN:DAYLIGHT
TZOFFSETFROM:-0500
TZOFFSETTO:-0400
TZNAME:EDT
DTSTART:20250309T070000
END:DAYLIGHT
BEGIN:STANDARD
TZOFFSETFROM:-0400
TZOFFSETTO:-0500
TZNAME:EST
DTSTART:20251102T060000
END:STANDARD
BEGIN:DAYLIGHT
TZOFFSETFROM:-0500
TZOFFSETTO:-0400
TZNAME:EDT
DTSTART:20260308T070000
END:DAYLIGHT
BEGIN:STANDARD
TZOFFSETFROM:-0400
TZOFFSETTO:-0500
TZNAME:EST
DTSTART:20261101T060000
END:STANDARD
END:VTIMEZONE
BEGIN:VEVENT
DTSTART;TZID=America/New_York:20251107T080000
DTEND;TZID=America/New_York:20251109T170000
DTSTAMP:20260421T182819
CREATED:20250908T200725Z
LAST-MODIFIED:20250908T200725Z
UID:19288-1762502400-1762707600@www.octoraro.com
SUMMARY:2025 Chesapeake Watershed Forum
DESCRIPTION:Kevin Zuidervliet of Octoraro Native Plant Nursery will be presenting! \nFor two decades\, the Chesapeake Watershed Forum has brought together partners to collaborate\, innovate\, and drive meaningful progress in restoring and protecting the shared waters of the Chesapeake Bay watershed. As we mark this milestone 20th anniversary\, we have an opportunity to reflect on the successes and challenges that have shaped our work and the lessons that will guide us forward. \n2025 is a pivotal year – both a moment to celebrate how far we have come and a chance to plan for what’s ahead. Planning for 2025 and Beyond efforts led by the Chesapeake Bay Program challenge us to think critically about the future of conservation and restoration efforts. While uncertainties exist\, by embracing a mindset of resilience and adaptability\, we can continue building a strong foundation for the next generation of conservationists in our region. \nThis year’s theme centers on human-centered approaches – ensuring that the needs\, well-being\, and aspirations of people remain at the core of our work. By prioritizing trust and collaborative decision-making\, we create impactful solutions and longstanding outcomes. Our ability to navigate change isn’t just about responding to external forces; it’s about proactively shaping a future that meets the needs and collective futures for all of us.
URL:https://www.octoraro.com/event/2025-chesapeake-watershed-forum/
LOCATION:National Conservation Training Center\, 698 Conservation Way\, Shepherdstown\, WV\, 25443\, United States
END:VEVENT
END:VCALENDAR